BEGIN:VCALENDAR
VERSION:2.0
PRODID:-//Autism Connection of Pennsylvania - ECPv6.15.20//NONSGML v1.0//EN
CALSCALE:GREGORIAN
METHOD:PUBLISH
X-WR-CALNAME:Autism Connection of Pennsylvania
X-ORIGINAL-URL:https://autismofpa.org
X-WR-CALDESC:Events for Autism Connection of Pennsylvania
REFRESH-INTERVAL;VALUE=DURATION:PT1H
X-Robots-Tag:noindex
X-PUBLISHED-TTL:PT1H
BEGIN:VTIMEZONE
TZID:America/New_York
BEGIN:DAYLIGHT
TZOFFSETFROM:-0500
TZOFFSETTO:-0400
TZNAME:EDT
DTSTART:20240310T070000
END:DAYLIGHT
BEGIN:STANDARD
TZOFFSETFROM:-0400
TZOFFSETTO:-0500
TZNAME:EST
DTSTART:20241103T060000
END:STANDARD
BEGIN:DAYLIGHT
TZOFFSETFROM:-0500
TZOFFSETTO:-0400
TZNAME:EDT
DTSTART:20250309T070000
END:DAYLIGHT
BEGIN:STANDARD
TZOFFSETFROM:-0400
TZOFFSETTO:-0500
TZNAME:EST
DTSTART:20251102T060000
END:STANDARD
BEGIN:DAYLIGHT
TZOFFSETFROM:-0500
TZOFFSETTO:-0400
TZNAME:EDT
DTSTART:20260308T070000
END:DAYLIGHT
BEGIN:STANDARD
TZOFFSETFROM:-0400
TZOFFSETTO:-0500
TZNAME:EST
DTSTART:20261101T060000
END:STANDARD
END:VTIMEZONE
BEGIN:VEVENT
DTSTART;TZID=America/New_York:20251217T183000
DTEND;TZID=America/New_York:20251217T193000
DTSTAMP:20260423T104358
CREATED:20251210T145458Z
LAST-MODIFIED:20251210T145542Z
UID:17767-1765996200-1765999800@autismofpa.org
SUMMARY:Late Diagnosis of Autism Support Group On Zoom
DESCRIPTION:Virtual support group meeting for adults diagnosed on the autism spectrum later in life. This meeting is open to people who believe they are autistic\, and don’t know where to turn for help.  Meets on the 3rd Wednesday of every month at 6:30pm. \nJoin the meeting on December 17th at 6:30pm  \nLate Diagnosis of Autism Support Group Meeting Link
URL:https://autismofpa.org/event/late-diagnosis-of-autism-support-group-on-zoom/
LOCATION:Virtual
CATEGORIES:Support Groups
ATTACH;FMTTYPE=image/png:https://autismofpa.org/wp-content/uploads/2025/07/Support-Group-3.png
ORGANIZER;CN="Autism Connection of PA":MAILTO:tammi@autismofpa.org
END:VEVENT
END:VCALENDAR