BEGIN:VCALENDAR
VERSION:2.0
PRODID:-//Autism Connection of Pennsylvania - ECPv6.15.20//NONSGML v1.0//EN
CALSCALE:GREGORIAN
METHOD:PUBLISH
X-WR-CALNAME:Autism Connection of Pennsylvania
X-ORIGINAL-URL:https://autismofpa.org
X-WR-CALDESC:Events for Autism Connection of Pennsylvania
REFRESH-INTERVAL;VALUE=DURATION:PT1H
X-Robots-Tag:noindex
X-PUBLISHED-TTL:PT1H
BEGIN:VTIMEZONE
TZID:America/New_York
BEGIN:DAYLIGHT
TZOFFSETFROM:-0500
TZOFFSETTO:-0400
TZNAME:EDT
DTSTART:20250309T070000
END:DAYLIGHT
BEGIN:STANDARD
TZOFFSETFROM:-0400
TZOFFSETTO:-0500
TZNAME:EST
DTSTART:20251102T060000
END:STANDARD
BEGIN:DAYLIGHT
TZOFFSETFROM:-0500
TZOFFSETTO:-0400
TZNAME:EDT
DTSTART:20260308T070000
END:DAYLIGHT
BEGIN:STANDARD
TZOFFSETFROM:-0400
TZOFFSETTO:-0500
TZNAME:EST
DTSTART:20261101T060000
END:STANDARD
BEGIN:DAYLIGHT
TZOFFSETFROM:-0500
TZOFFSETTO:-0400
TZNAME:EDT
DTSTART:20270314T070000
END:DAYLIGHT
BEGIN:STANDARD
TZOFFSETFROM:-0400
TZOFFSETTO:-0500
TZNAME:EST
DTSTART:20271107T060000
END:STANDARD
END:VTIMEZONE
BEGIN:VEVENT
DTSTART;TZID=America/New_York:20260218T183000
DTEND;TZID=America/New_York:20260218T193000
DTSTAMP:20260421T060054
CREATED:20260101T174401Z
LAST-MODIFIED:20260101T174401Z
UID:18613-1771439400-1771443000@autismofpa.org
SUMMARY:Late Diagnosis of Autism Support Group
DESCRIPTION:Late Diagnosis of Autism Support Group\nMeets every first and third Wednesday of the month at 6:30pm  \nVirtual support group for people diagnosed with autism later in life. This meeting is open to people who believe they are autistic and don’t know where to turn. \nhttps://us06web.zoom.us/j/88224805032?pwd=V1SLiIQpYIVHbLi9TzPRhgNOWgFwKD.1
URL:https://autismofpa.org/event/late-diagnosis-of-autism-support-group-3/
LOCATION:Virtual
CATEGORIES:Support Groups
ATTACH;FMTTYPE=image/png:https://autismofpa.org/wp-content/uploads/2025/07/Support-Group-3.png
ORGANIZER;CN="Autism Connection of PA":MAILTO:tammi@autismofpa.org
END:VEVENT
BEGIN:VEVENT
DTSTART;TZID=America/New_York:20260304T183000
DTEND;TZID=America/New_York:20260304T193000
DTSTAMP:20260421T060054
CREATED:20260101T174549Z
LAST-MODIFIED:20260101T174922Z
UID:18615-1772649000-1772652600@autismofpa.org
SUMMARY:Late Diagnosis of Autism Support Group
DESCRIPTION:Late Diagnosis of Autism Support Group\nMeets every first and third Wednesday of the month at 6:30pm  \nVirtual support group for people diagnosed with autism later in life. This meeting is open to people who believe they are autistic and don’t know where to turn. \nhttps://us06web.zoom.us/j/88224805032?pwd=V1SLiIQpYIVHbLi9TzPRhgNOWgFwKD.1
URL:https://autismofpa.org/event/late-diagnosis-of-autism-support-group-4/
LOCATION:Virtual
CATEGORIES:Support Groups
ATTACH;FMTTYPE=image/png:https://autismofpa.org/wp-content/uploads/2025/07/Support-Group-3.png
ORGANIZER;CN="Autism Connection of PA":MAILTO:tammi@autismofpa.org
END:VEVENT
BEGIN:VEVENT
DTSTART;TZID=America/New_York:20260318T183000
DTEND;TZID=America/New_York:20260318T193000
DTSTAMP:20260421T060054
CREATED:20260101T174722Z
LAST-MODIFIED:20260101T175001Z
UID:18617-1773858600-1773862200@autismofpa.org
SUMMARY:Late Diagnosis of Autism Support Group
DESCRIPTION:Late Diagnosis of Autism Support Group\nMeets every first and third Wednesday of the month at 6:30pm  \nVirtual support group for people diagnosed with autism later in life. This meeting is open to people who believe they are autistic and don’t know where to turn. \nhttps://us06web.zoom.us/j/88224805032?pwd=V1SLiIQpYIVHbLi9TzPRhgNOWgFwKD.1
URL:https://autismofpa.org/event/late-diagnosis-of-autism-support-group-5/
LOCATION:Virtual
CATEGORIES:Support Groups
ATTACH;FMTTYPE=image/png:https://autismofpa.org/wp-content/uploads/2025/07/Support-Group-3.png
ORGANIZER;CN="Autism Connection of PA":MAILTO:tammi@autismofpa.org
END:VEVENT
BEGIN:VEVENT
DTSTART;TZID=America/New_York:20260401T183000
DTEND;TZID=America/New_York:20260401T193000
DTSTAMP:20260421T060054
CREATED:20260319T183324Z
LAST-MODIFIED:20260319T183324Z
UID:19368-1775068200-1775071800@autismofpa.org
SUMMARY:Late Diagnosis of Autism Support Group
DESCRIPTION:Virtual support group for people diagnosed with autism later in life. This meeting is open to people who believe they are autistic and don’t know where to turn. Meets on the 1st and 3rd Wednesday of the month at 6:30pm. \nJoin Zoom Meeting Here
URL:https://autismofpa.org/event/late-diagnosis-of-autism-support-group-6/
LOCATION:Virtual
CATEGORIES:Support Groups
ATTACH;FMTTYPE=image/png:https://autismofpa.org/wp-content/uploads/2025/07/Support-Group-3.png
ORGANIZER;CN="Autism Connection of PA":MAILTO:tammi@autismofpa.org
END:VEVENT
BEGIN:VEVENT
DTSTART;TZID=America/New_York:20260414T183000
DTEND;TZID=America/New_York:20260414T200000
DTSTAMP:20260421T060054
CREATED:20260312T164749Z
LAST-MODIFIED:20260312T164749Z
UID:19315-1776191400-1776196800@autismofpa.org
SUMMARY:Caring for Loved Ones with High Support Needs/Profound Autism
DESCRIPTION:Building a Strong Support Team \nFinding and working with the right support staff can make a big difference for families caring for loved ones with high support needs. In this support group\, we’ll talk about how to build a reliable support team\, including Direct Support Professionals (DSPs)\, home health aides\, and school staff. We’ll share practical tips for finding staff\, communicating your loved one’s needs\, setting clear expectations\, and building positive working relationships. Families will also have the chance to exchange ideas\, challenges\, and strategies that have helped them create supportive partnerships. \nRegister on Zoom
URL:https://autismofpa.org/event/caring-for-loved-ones-with-high-support-needs-profound-autism/
LOCATION:Virtual
CATEGORIES:Support Groups
ATTACH;FMTTYPE=image/png:https://autismofpa.org/wp-content/uploads/2025/07/Caring-for-Loved-Ones-with-Profound-Autism-Virtual-Information-and-Sharing-for-Parents-and-Caregivers.png
ORGANIZER;CN="Autism Connection of PA":MAILTO:tammi@autismofpa.org
END:VEVENT
BEGIN:VEVENT
DTSTART;TZID=America/New_York:20260415T183000
DTEND;TZID=America/New_York:20260415T193000
DTSTAMP:20260421T060054
CREATED:20260319T183645Z
LAST-MODIFIED:20260415T180431Z
UID:19370-1776277800-1776281400@autismofpa.org
SUMMARY:Late Diagnosis of Autism Support Group
DESCRIPTION:Virtual support group for people diagnosed with autism later in life. This meeting is open to people who believe they are autistic and don’t know where to turn. Meets on the 1st and 3rd Wednesday of the month at 6:30pm. \nJoin Meeting Here
URL:https://autismofpa.org/event/late-diagnosis-of-autism-support-group-7/
LOCATION:Virtual
CATEGORIES:Support Groups
ATTACH;FMTTYPE=image/png:https://autismofpa.org/wp-content/uploads/2025/07/Support-Group-3.png
END:VEVENT
BEGIN:VEVENT
DTSTART;TZID=America/New_York:20260506T183000
DTEND;TZID=America/New_York:20260506T193000
DTSTAMP:20260421T060054
CREATED:20260319T184552Z
LAST-MODIFIED:20260415T180539Z
UID:19377-1778092200-1778095800@autismofpa.org
SUMMARY:Late Diagnosis of Autism Support Group
DESCRIPTION:Virtual support group for people diagnosed with autism later in life. This meeting is open to people who believe they are autistic and don’t know where to turn. Meets on the 1st and 3rd Wednesday of the month at 6:30pm. \nJoin Meeting Here
URL:https://autismofpa.org/event/late-diagnosis-of-autism-support-group-10/
LOCATION:PA
CATEGORIES:Support Groups
ATTACH;FMTTYPE=image/png:https://autismofpa.org/wp-content/uploads/2025/07/Support-Group-3.png
END:VEVENT
BEGIN:VEVENT
DTSTART;TZID=America/New_York:20260520T183000
DTEND;TZID=America/New_York:20260520T193000
DTSTAMP:20260421T060054
CREATED:20260319T183933Z
LAST-MODIFIED:20260415T180721Z
UID:19373-1779301800-1779305400@autismofpa.org
SUMMARY:Late Diagnosis of Autism Support Group
DESCRIPTION:Virtual support group for people diagnosed with autism later in life. This meeting is open to people who believe they are autistic and don’t know where to turn. Meets on the 1st and 3rd Wednesday of the month at 6:30pm. \nJoin Meeting Here
URL:https://autismofpa.org/event/late-diagnosis-of-autism-support-group-8/
LOCATION:Virtual
CATEGORIES:Support Groups
ATTACH;FMTTYPE=image/png:https://autismofpa.org/wp-content/uploads/2025/07/Support-Group-3.png
ORGANIZER;CN="Autism Connection of PA":MAILTO:tammi@autismofpa.org
END:VEVENT
BEGIN:VEVENT
DTSTART;TZID=America/New_York:20260603T183000
DTEND;TZID=America/New_York:20260603T193000
DTSTAMP:20260421T060054
CREATED:20260319T184220Z
LAST-MODIFIED:20260415T180808Z
UID:19375-1780511400-1780515000@autismofpa.org
SUMMARY:Late Diagnosis of Autism Support Group
DESCRIPTION:Virtual support group for people diagnosed with autism later in life. This meeting is open to people who believe they are autistic and don’t know where to turn. Meets on the 1st and 3rd Wednesday of the month at 6:30pm. \nJoin Meeting Here
URL:https://autismofpa.org/event/late-diagnosis-of-autism-support-group-9/
LOCATION:Virtual
CATEGORIES:Support Groups
ATTACH;FMTTYPE=image/png:https://autismofpa.org/wp-content/uploads/2025/07/Support-Group-3.png
ORGANIZER;CN="Autism Connection of PA":MAILTO:tammi@autismofpa.org
END:VEVENT
BEGIN:VEVENT
DTSTART;TZID=America/New_York:20260617T183000
DTEND;TZID=America/New_York:20260617T193000
DTSTAMP:20260421T060054
CREATED:20260319T185434Z
LAST-MODIFIED:20260415T180249Z
UID:19380-1781721000-1781724600@autismofpa.org
SUMMARY:Late Diagnosis of Autism Support Group
DESCRIPTION:Virtual support group for people diagnosed with autism later in life. This meeting is open to people who believe they are autistic and don’t know where to turn. Meets on the 1st and 3rd Wednesday of the month at 6:30pm. \nJoin Meeting Here
URL:https://autismofpa.org/event/late-diagnosis-of-autism-support-group-11/
LOCATION:PA
CATEGORIES:Support Groups
ATTACH;FMTTYPE=image/png:https://autismofpa.org/wp-content/uploads/2025/07/Support-Group-3.png
END:VEVENT
END:VCALENDAR